BEGIN:VCALENDAR
VERSION:2.0
PRODID:-//AudioTheme 2.3.1
BEGIN:VEVENT
UID:urn:uuid:a792d952-3f1d-45bf-a633-e2e8dab9895d
URL:https://www.vertilizar.com/live/nova-rock-festival-2024/
DTSTART;TZID=GMT:20240615T140000
SUMMARY:Nova Rock Festival 2024
LOCATION:Nova Rock Festival\, Nickelsdorf\, Burgenland\, Austria
END:VEVENT
END:VCALENDAR
