BEGIN:VCALENDAR
VERSION:2.0
PRODID:-//AudioTheme 2.3.1
BEGIN:VEVENT
UID:urn:uuid:441854b9-0821-4964-b566-20277a1b7da6
URL:https://www.vertilizar.com/live/t-b-a-5/
DTSTART;VALUE=DATE:20250912
SUMMARY:T.B.A.
LOCATION:T.B.A.\, T.B.A.\, 
END:VEVENT
END:VCALENDAR
